BEGIN:VCALENDAR
VERSION:2.0
PRODID:-//Pro Regio Huttwil//NONSGML kigkonsult.se iCalcreator 2.16.12//
METHOD:PUBLISH
X-MS-OLK-FORCEINSPECTOROPEN:TRUE
BEGIN:VEVENT
UID:20260420T111238CEST-0883O5pBnr@Pro Regio Huttwil
DTSTAMP:20260420T091238Z
DESCRIPTION:Global Music\, World\, Jazz\, Griot\nJMO: drei Länder – eine Sp
 rache! «Dandoula Tala» ist der Titel der zweiten CD und bedeutet auf Mandi
 nka «no borders». Das Trio überschreitet Grenzen zwischen traditionellen u
 nd modernen Klängen aus Afrika\, Europa und dem Orient. Das Repertoire sta
 mmt von allen drei Musikern und zeigt ihre unterschiedlichen Einflüsse. Da
 s Aufeinandertreffen der drei Kulturen\, die Auswahl der Instrumente und d
 er reiche Fundus an Ideen\, Melodien und Rhythmen macht die Musik zu einem
  unvergesslichen Hörabenteuer!\nkellerbistro-huttwil.ch/konzerte/trio-jmo/
DTSTART:20201106T201500
DTEND:20201106T230000
LOCATION:Keller-Bistro Alte Mühle
ORGANIZER:MAILTO:Pro Regio Huttwil <info@regio-huttwil.ch>
SUMMARY:Konzert mit Trio JMO
END:VEVENT
END:VCALENDAR
