BEGIN:VCALENDAR
VERSION:2.0
PRODID:-//Pro Regio Huttwil//NONSGML kigkonsult.se iCalcreator 2.16.12//
METHOD:PUBLISH
X-MS-OLK-FORCEINSPECTOROPEN:TRUE
BEGIN:VEVENT
UID:20260420T101821CEST-9698JX8CAa@Pro Regio Huttwil
DTSTAMP:20260420T081821Z
DESCRIPTION:Folk\, Country\, Chanson\nAnna Mae ist eine Sängerin und Lieder
 schreiberin aus dem Luzerner Hinterland. Ihre Musik hat sie nicht nur auf 
 die inländischen Bühnen gebracht\, sondern auch z.B. nach Frankreich\, Eng
 land\, USA oder Kanada. Mit ihrer emotionsgeladenen Stimme und einer Gitar
 re singt sie Lieder\, die vom Streben nach Glück\, von Liebe und vom Weltg
 eschehen handeln. Zusammen mit ihren beiden Musikern Roland Stadelmann (Ba
 ss) und Gabriel Yaacoub (Gitarre) gestaltet sie einen Konzertabend\, der g
 eprägt ist von Tina Turner\, Johnny Cash oder Edith Piaf.\nkellerbistro-hu
 ttwil.ch/konzerte/anna-mae/\n 
DTSTART:20201016T201500
DTEND:20201016T230000
LOCATION:Keller-Bistro Alte Mühle
ORGANIZER:MAILTO:Pro Regio Huttwil <info@regio-huttwil.ch>
SUMMARY:Konzert mit Anna Mae
END:VEVENT
END:VCALENDAR
