BEGIN:VCALENDAR
VERSION:2.0
PRODID:-//Pro Regio Huttwil//NONSGML kigkonsult.se iCalcreator 2.16.12//
METHOD:PUBLISH
X-MS-OLK-FORCEINSPECTOROPEN:TRUE
BEGIN:VEVENT
UID:20260420T101756CEST-9359XVKted@Pro Regio Huttwil
DTSTAMP:20260420T081756Z
DESCRIPTION:
DTSTART:20200514T093800
DTEND:20200514T171900
LOCATION:Sumiswald
ORGANIZER:MAILTO:Pro Regio Huttwil <info@regio-huttwil.ch>
SUMMARY:Geführte Wanderung
END:VEVENT
END:VCALENDAR
