BEGIN:VCALENDAR
VERSION:2.0
PRODID:-//Pro Regio Huttwil//NONSGML kigkonsult.se iCalcreator 2.16.12//
METHOD:PUBLISH
X-MS-OLK-FORCEINSPECTOROPEN:TRUE
BEGIN:VEVENT
UID:20260420T150657CEST-1406ZC9tuV@Pro Regio Huttwil
DTSTAMP:20260420T130657Z
DESCRIPTION:
DTSTART:20200407T091400
DTEND:20200407T184300
LOCATION:Huttwil
ORGANIZER:MAILTO:Pro Regio Huttwil <info@regio-huttwil.ch>
SUMMARY:Geführte Wanderung
END:VEVENT
END:VCALENDAR
