BEGIN:VCALENDAR
VERSION:2.0
PRODID:-//Pro Regio Huttwil//NONSGML kigkonsult.se iCalcreator 2.16.12//
METHOD:PUBLISH
X-MS-OLK-FORCEINSPECTOROPEN:TRUE
BEGIN:VEVENT
UID:20260420T101953CEST-5869iGwuHB@Pro Regio Huttwil
DTSTAMP:20260420T081953Z
DESCRIPTION:
DTSTART:20201202T000000
DTEND:20201202T235900
LOCATION:Tagungsraum
ORGANIZER:MAILTO:Pro Regio Huttwil <info@regio-huttwil.ch>
SUMMARY:Frauenadventsabend
END:VEVENT
END:VCALENDAR
