BEGIN:VCALENDAR
VERSION:2.0
PRODID:-//Pro Regio Huttwil//NONSGML kigkonsult.se iCalcreator 2.16.12//
METHOD:PUBLISH
X-MS-OLK-FORCEINSPECTOROPEN:TRUE
BEGIN:VEVENT
UID:20260420T101829CEST-8803dnGV0x@Pro Regio Huttwil
DTSTAMP:20260420T081829Z
DESCRIPTION:
DTSTART:20201122T000000
DTEND:20201122T235900
LOCATION:Gartenfenster
ORGANIZER:MAILTO:Pro Regio Huttwil <info@regio-huttwil.ch>
SUMMARY:Weihnachts-Event
END:VEVENT
END:VCALENDAR
