BEGIN:VCALENDAR
VERSION:2.0
PRODID:-//Pro Regio Huttwil//NONSGML kigkonsult.se iCalcreator 2.16.12//
METHOD:PUBLISH
X-MS-OLK-FORCEINSPECTOROPEN:TRUE
BEGIN:VEVENT
UID:20260422T121608CEST-5594wAw7u0@Pro Regio Huttwil
DTSTAMP:20260422T101608Z
DESCRIPTION:
DTSTART:20150901T150000
DTEND:20150901T150000
LOCATION:Vereinshaus EGW
ORGANIZER:MAILTO:Pro Regio Huttwil <info@regio-huttwil.ch>
SUMMARY:Mittagessen für Alleinstehende
END:VEVENT
END:VCALENDAR
