BEGIN:VCALENDAR
VERSION:2.0
PRODID:-//Pro Regio Huttwil//NONSGML kigkonsult.se iCalcreator 2.16.12//
METHOD:PUBLISH
X-MS-OLK-FORCEINSPECTOROPEN:TRUE
BEGIN:VEVENT
UID:20260420T110951CEST-7541PSwMDi@Pro Regio Huttwil
DTSTAMP:20260420T090951Z
DESCRIPTION:ev. 21.11.
DTSTART:20201114T000000
DTEND:20201114T235900
LOCATION:MZH
ORGANIZER:MAILTO:Pro Regio Huttwil <info@regio-huttwil.ch>
SUMMARY:Lotto
END:VEVENT
END:VCALENDAR
