BEGIN:VCALENDAR
VERSION:2.0
PRODID:-//Pro Regio Huttwil//NONSGML kigkonsult.se iCalcreator 2.16.12//
METHOD:PUBLISH
X-MS-OLK-FORCEINSPECTOROPEN:TRUE
BEGIN:VEVENT
UID:20260422T105204CEST-0932VGOUiJ@Pro Regio Huttwil
DTSTAMP:20260422T085204Z
DESCRIPTION:
DTSTART:20200919T000000
DTEND:20200919T235900
LOCATION:MZH
ORGANIZER:MAILTO:Pro Regio Huttwil <info@regio-huttwil.ch>
SUMMARY:Burezmorge
END:VEVENT
END:VCALENDAR
