BEGIN:VCALENDAR
VERSION:2.0
PRODID:-//Pro Regio Huttwil//NONSGML kigkonsult.se iCalcreator 2.16.12//
METHOD:PUBLISH
X-MS-OLK-FORCEINSPECTOROPEN:TRUE
BEGIN:VEVENT
UID:20260422T121549CEST-6323hBz20I@Pro Regio Huttwil
DTSTAMP:20260422T101549Z
DESCRIPTION:Modellfluggruppe Rohrbach\n\n
DTSTART:20150808T000000
DTEND:20150809T000000
LOCATION:Modellflugplatz
ORGANIZER:MAILTO:Pro Regio Huttwil <info@regio-huttwil.ch>
SUMMARY:10. Modell-Oldtimerseglertreffen
END:VEVENT
END:VCALENDAR
