BEGIN:VCALENDAR
VERSION:2.0
PRODID:-//Pro Regio Huttwil//NONSGML kigkonsult.se iCalcreator 2.16.12//
METHOD:PUBLISH
X-MS-OLK-FORCEINSPECTOROPEN:TRUE
BEGIN:VEVENT
UID:20260422T104805CEST-7888rP5seX@Pro Regio Huttwil
DTSTAMP:20260422T084805Z
DESCRIPTION:
DTSTART:20200731T000000
DTEND:20200731T235900
LOCATION:Dorfplatz/Kirche
ORGANIZER:MAILTO:Pro Regio Huttwil <info@regio-huttwil.ch>
SUMMARY:Bundesfeier
END:VEVENT
END:VCALENDAR
