BEGIN:VCALENDAR
VERSION:2.0
PRODID:-//Pro Regio Huttwil//NONSGML kigkonsult.se iCalcreator 2.16.12//
METHOD:PUBLISH
X-MS-OLK-FORCEINSPECTOROPEN:TRUE
BEGIN:VEVENT
UID:20260420T101752CEST-5529jdrrVv@Pro Regio Huttwil
DTSTAMP:20260420T081752Z
DESCRIPTION:
DTSTART:20200717T000000
DTEND:20200717T235900
LOCATION:Hubbach
ORGANIZER:MAILTO:Pro Regio Huttwil <info@regio-huttwil.ch>
SUMMARY:Mugge-Fescht
END:VEVENT
END:VCALENDAR
