BEGIN:VCALENDAR
VERSION:2.0
PRODID:-//Pro Regio Huttwil//NONSGML kigkonsult.se iCalcreator 2.16.12//
METHOD:PUBLISH
X-MS-OLK-FORCEINSPECTOROPEN:TRUE
BEGIN:VEVENT
UID:20260424T115337CEST-4763UKPUag@Pro Regio Huttwil
DTSTAMP:20260424T095337Z
DESCRIPTION:\n\nWeitere Informationen zur Blutspende Entnehmen Sie bitte de
 r Webseite vom Schweizerischen roten Kreuz
DTSTART:20150807T000000
DTEND:20150807T000000
LOCATION:Kirchgemeindehaus
ORGANIZER:MAILTO:Pro Regio Huttwil <info@regio-huttwil.ch>
SUMMARY:Blutspendeaktion SRK
END:VEVENT
END:VCALENDAR
