BEGIN:VCALENDAR
VERSION:2.0
PRODID:-//Pro Regio Huttwil//NONSGML kigkonsult.se iCalcreator 2.16.12//
METHOD:PUBLISH
X-MS-OLK-FORCEINSPECTOROPEN:TRUE
BEGIN:VEVENT
UID:20260420T112727CEST-5248C6T5Sp@Pro Regio Huttwil
DTSTAMP:20260420T092727Z
DESCRIPTION:
DTSTART:20200521T000000
DTEND:20200521T235900
LOCATION:Oberwald
ORGANIZER:MAILTO:Pro Regio Huttwil <info@regio-huttwil.ch>
SUMMARY:Oberwaldchilbi
END:VEVENT
END:VCALENDAR
