BEGIN:VCALENDAR
VERSION:2.0
PRODID:-//Pro Regio Huttwil//NONSGML kigkonsult.se iCalcreator 2.16.12//
METHOD:PUBLISH
X-MS-OLK-FORCEINSPECTOROPEN:TRUE
BEGIN:VEVENT
UID:20260420T111037CEST-5609W4t8Dc@Pro Regio Huttwil
DTSTAMP:20260420T091037Z
DESCRIPTION:
DTSTART:20200229T000000
DTEND:20200229T235900
LOCATION:MZH
ORGANIZER:MAILTO:Pro Regio Huttwil <info@regio-huttwil.ch>
SUMMARY:Heimspiel
END:VEVENT
END:VCALENDAR
