BEGIN:VCALENDAR
VERSION:2.0
PRODID:-//Pro Regio Huttwil//NONSGML kigkonsult.se iCalcreator 2.16.12//
METHOD:PUBLISH
X-MS-OLK-FORCEINSPECTOROPEN:TRUE
BEGIN:VEVENT
UID:20260424T114959CEST-0436xSKZz1@Pro Regio Huttwil
DTSTAMP:20260424T094959Z
DESCRIPTION:
DTSTART:20150627T000000
DTEND:20150627T000000
LOCATION:MZH Dürrenroth
ORGANIZER:MAILTO:Pro Regio Huttwil <info@regio-huttwil.ch>
SUMMARY:Sängertreffen
END:VEVENT
END:VCALENDAR
