BEGIN:VCALENDAR
VERSION:2.0
PRODID:-//Pro Regio Huttwil//NONSGML kigkonsult.se iCalcreator 2.16.12//
METHOD:PUBLISH
X-MS-OLK-FORCEINSPECTOROPEN:TRUE
BEGIN:VEVENT
UID:20260420T101823CEST-0632xcW5uW@Pro Regio Huttwil
DTSTAMP:20260420T081823Z
DESCRIPTION:
DTSTART:20200214T000000
DTEND:20200214T235900
LOCATION:MZH
ORGANIZER:MAILTO:Pro Regio Huttwil <info@regio-huttwil.ch>
SUMMARY:Jahreskonzert
END:VEVENT
END:VCALENDAR
