BEGIN:VCALENDAR
VERSION:2.0
PRODID:-//Pro Regio Huttwil//NONSGML kigkonsult.se iCalcreator 2.16.12//
METHOD:PUBLISH
X-MS-OLK-FORCEINSPECTOROPEN:TRUE
BEGIN:VEVENT
UID:20260420T101916CEST-5971X7s9K7@Pro Regio Huttwil
DTSTAMP:20260420T081916Z
DESCRIPTION:
DTSTART:20200203T000000
DTEND:20200203T235900
LOCATION:MZH
ORGANIZER:MAILTO:Pro Regio Huttwil <info@regio-huttwil.ch>
SUMMARY:Heimspiel
END:VEVENT
END:VCALENDAR
