BEGIN:VCALENDAR
VERSION:2.0
PRODID:-//Pro Regio Huttwil//NONSGML kigkonsult.se iCalcreator 2.16.12//
METHOD:PUBLISH
X-MS-OLK-FORCEINSPECTOROPEN:TRUE
BEGIN:VEVENT
UID:20260420T111055CEST-3529E29g9O@Pro Regio Huttwil
DTSTAMP:20260420T091055Z
DESCRIPTION:
DTSTART:20200125T000000
DTEND:20200125T235900
LOCATION:MZH
ORGANIZER:MAILTO:Pro Regio Huttwil <info@regio-huttwil.ch>
SUMMARY:Heimspiel
END:VEVENT
END:VCALENDAR
