BEGIN:VCALENDAR
VERSION:2.0
PRODID:-//Pro Regio Huttwil//NONSGML kigkonsult.se iCalcreator 2.16.12//
METHOD:PUBLISH
X-MS-OLK-FORCEINSPECTOROPEN:TRUE
BEGIN:VEVENT
UID:20260420T110046CEST-4056aluzbi@Pro Regio Huttwil
DTSTAMP:20260420T090046Z
DESCRIPTION:
DTSTART:20200119T000000
DTEND:20200119T235900
LOCATION:MZH
ORGANIZER:MAILTO:Pro Regio Huttwil <info@regio-huttwil.ch>
SUMMARY:Allianz-Gottesdienst
END:VEVENT
END:VCALENDAR
