BEGIN:VCALENDAR
VERSION:2.0
PRODID:-//Pro Regio Huttwil//NONSGML kigkonsult.se iCalcreator 2.16.12//
METHOD:PUBLISH
X-MS-OLK-FORCEINSPECTOROPEN:TRUE
BEGIN:VEVENT
UID:20260420T101917CEST-2013LoHdN7@Pro Regio Huttwil
DTSTAMP:20260420T081917Z
DESCRIPTION:
DTSTART:20200115T000000
DTEND:20200115T235900
LOCATION:Bären
ORGANIZER:MAILTO:Pro Regio Huttwil <info@regio-huttwil.ch>
SUMMARY:Seniorenmittagstisch
END:VEVENT
END:VCALENDAR
