BEGIN:VCALENDAR
VERSION:2.0
PRODID:-//Pro Regio Huttwil//NONSGML kigkonsult.se iCalcreator 2.16.12//
METHOD:PUBLISH
X-MS-OLK-FORCEINSPECTOROPEN:TRUE
BEGIN:VEVENT
UID:20260420T150603CEST-7600BU3cAF@Pro Regio Huttwil
DTSTAMP:20260420T130603Z
DESCRIPTION:Ein absoluter Klassiker\, die Geschichte über eines der ungleic
 hsten Filmpaare. Harold (Bud Cort) ist ein junger wohlstandsübersättigter 
 Mann mit einer morbiden Faszination für den Tod. Maude (Ruth Gordon) eine 
 wundervolle alte Exzentrikerin\, die allem im Leben etwas Positives abge-w
 innt und es in vollen Zügen geniesst. Die beiden begegnen sich auf einer B
 eerdigung und verstehen sich auf Anhieb. Es beginnt eine ganz besondere Be
 ziehung zwischen Harold und Maude\, von der beide etwas lernen und die wei
 t über Freundschaft hinauszugehen scheint.\nHal Ashby führte Regie und Cat
  Stevens komponierte die Musik für diesen liebenswürdigen Film voll abgrün
 diger Komik\, der beweist\, dass Liebe keine Grenzen kennt.\nBistro offen 
 ab 19.30
DTSTART:20200313T200000
DTEND:20200313T230000
LOCATION:Kellerbistro Alte Mühle
ORGANIZER:MAILTO:Pro Regio Huttwil <info@regio-huttwil.ch>
SUMMARY:Film HAROLD UND MAUDE
END:VEVENT
END:VCALENDAR
