BEGIN:VCALENDAR
VERSION:2.0
PRODID:-//Pro Regio Huttwil//NONSGML kigkonsult.se iCalcreator 2.16.12//
METHOD:PUBLISH
X-MS-OLK-FORCEINSPECTOROPEN:TRUE
BEGIN:VEVENT
UID:20260420T101745CEST-6136fApF1f@Pro Regio Huttwil
DTSTAMP:20260420T081745Z
DESCRIPTION:Die Tragikomödie von Regisseur Peter Farrelly\, basierend auf d
 er Lebensgeschichte von Toni Lip\, gewann 2019 drei Oscars\, unter anderem
  für den besten Film. Die USA im Jahr 1962: Dr. Don Shirley (Mahershala Al
 i) ist ein begnadeter klassischer Pianist und geht auf eine Tournee\, die 
 ihn aus dem verhältnismässig toleranten New York bis in die amerikanischen
  Südstaaten führt. Als Fahrer engagiert er den Italo-Amerikaner Tony\nLip 
 (Viggo Mortensen)\, der sich bislang mit Gelegenheitsjobs über Wasser geha
 lten hat und etwa als Türsteher arbeitete. Während der langen Fahrt orient
 ieren sie sich am sogenannten «Negro Motorist Green Book». Darin sind die 
 wenigen Unterkünfte und Restaurants aufgelistet\, in denen auch schwarze G
 äste willkommen sind...\nBistro offen ab 19.30
DTSTART:20200214T200000
DTEND:20200214T230000
LOCATION:Kellerbistro Alte Mühle
ORGANIZER:MAILTO:Pro Regio Huttwil <info@regio-huttwil.ch>
SUMMARY:Film GREEN BOOK
END:VEVENT
END:VCALENDAR
