BEGIN:VCALENDAR
VERSION:2.0
PRODID:-//Pro Regio Huttwil//NONSGML kigkonsult.se iCalcreator 2.16.12//
METHOD:PUBLISH
X-MS-OLK-FORCEINSPECTOROPEN:TRUE
BEGIN:VEVENT
UID:20260420T111054CEST-6327mAKVVP@Pro Regio Huttwil
DTSTAMP:20260420T091054Z
DESCRIPTION:Der siebzehnjährige Franz Huchel kommt 1937 nach Wien und begin
 nt eine Lehre am Wiener Kiosk\, einer sogenannten Trafik\, von Otto Trsnje
 k (Johannes Krisch). Als er sich in die Varietétänzerin Anezka (Emma Drogu
 nova) verliebt\, sucht er Rat bei Sigmund Freud (Bruno Ganz)\, einem der S
 tammkunden an der Trafik. Dem ist das weibliche Geschlecht allerdings eben
 falls ein Rätsel. Es entwickelt sich eine Freundschaft zwischen Franz und 
 dem 82-jährigen Freud. Doch kurz darauf ändert sich die politische Lage: D
 ie Deutschen haben Österreich ans Reich angeschlossen und Sigmund Freud em
 igriert nach London. Für Franz rücken Liebesdinge in den Hintergrund und e
 r wird in die Wirren der Zeit vor dem 2. Weltkrieg verwickelt...
DTSTART:20200117T200000
DTEND:20200117T230000
LOCATION:Kellerbistro Alte Mühle
ORGANIZER:MAILTO:Pro Regio Huttwil <info@regio-huttwil.ch>
SUMMARY:Film DER TRAFIKANT
END:VEVENT
END:VCALENDAR
