BEGIN:VCALENDAR
VERSION:2.0
PRODID:-//Pro Regio Huttwil//NONSGML kigkonsult.se iCalcreator 2.16.12//
METHOD:PUBLISH
X-MS-OLK-FORCEINSPECTOROPEN:TRUE
BEGIN:VEVENT
UID:20260420T101913CEST-5800wWuRxr@Pro Regio Huttwil
DTSTAMP:20260420T081913Z
DESCRIPTION:Die fast 70-jährige Philomena Lee (Judi Dench) gesteht ihrer To
 chter\, dass sie vor genau 50 Jahren einen unehelichen Sohn geboren hatte.
  Im damals streng katholischen Irland wurden unverheiratete Mütter zur Geb
 urt oft in ein Magdalenenheim geschickt\, zur Arbeit zwangsverpflichtet\, 
 und ihr Kind zur Adoption freigegeben...\nErzählt wird eine wahre Geschich
 te basierend auf dem Buch «The Lost Child of Philomena Lee» von Martin Six
 smith.
DTSTART:20191220T200000
DTEND:20191220T220000
LOCATION:Kellerbistro Alte Mühle
ORGANIZER:MAILTO:Pro Regio Huttwil <info@regio-huttwil.ch>
SUMMARY:Film PHILOMENA
END:VEVENT
END:VCALENDAR
