BEGIN:VCALENDAR
VERSION:2.0
PRODID:-//Pro Regio Huttwil//NONSGML kigkonsult.se iCalcreator 2.16.12//
METHOD:PUBLISH
X-MS-OLK-FORCEINSPECTOROPEN:TRUE
BEGIN:VEVENT
UID:20260420T101910CEST-5750Pl6Bgx@Pro Regio Huttwil
DTSTAMP:20260420T081910Z
DESCRIPTION:
DTSTART:20201107T000000
DTEND:20201108T000000
LOCATION:KGH
ORGANIZER:MAILTO:Pro Regio Huttwil <info@regio-huttwil.ch>
SUMMARY:Lotto
END:VEVENT
END:VCALENDAR
