BEGIN:VCALENDAR
VERSION:2.0
PRODID:-//Pro Regio Huttwil//NONSGML kigkonsult.se iCalcreator 2.16.12//
METHOD:PUBLISH
X-MS-OLK-FORCEINSPECTOROPEN:TRUE
BEGIN:VEVENT
UID:20260422T103950CEST-62220dZo8P@Pro Regio Huttwil
DTSTAMP:20260422T083950Z
DESCRIPTION:
DTSTART:20201004T000000
DTEND:20201004T000000
LOCATION:KGH
ORGANIZER:MAILTO:Pro Regio Huttwil <info@regio-huttwil.ch>
SUMMARY:Erntedank-Zmittag
END:VEVENT
END:VCALENDAR
