BEGIN:VCALENDAR
VERSION:2.0
PRODID:-//Pro Regio Huttwil//NONSGML kigkonsult.se iCalcreator 2.16.12//
METHOD:PUBLISH
X-MS-OLK-FORCEINSPECTOROPEN:TRUE
BEGIN:VEVENT
UID:20260422T121448CEST-1161VtIdmO@Pro Regio Huttwil
DTSTAMP:20260422T101448Z
DESCRIPTION:World Music\n\nTüren 19 Uhr\n\nKonzert 20 Uhr 30\n\nEintritt: 1
 5.-
DTSTART:20150625T200000
DTEND:20150626T000000
LOCATION:Improvisorium
ORGANIZER:MAILTO:Pro Regio Huttwil <info@regio-huttwil.ch>
SUMMARY:Wooden Travel / koichiro / Tir Awen
END:VEVENT
END:VCALENDAR
