BEGIN:VCALENDAR
VERSION:2.0
PRODID:-//Pro Regio Huttwil//NONSGML kigkonsult.se iCalcreator 2.16.12//
METHOD:PUBLISH
X-MS-OLK-FORCEINSPECTOROPEN:TRUE
BEGIN:VEVENT
UID:20260420T101913CEST-0095XNfOuU@Pro Regio Huttwil
DTSTAMP:20260420T081913Z
DESCRIPTION:
DTSTART:20200816T000000
DTEND:20200816T000000
LOCATION:Dorf
ORGANIZER:MAILTO:Pro Regio Huttwil <info@regio-huttwil.ch>
SUMMARY:Gottesdienst für Gross und Chlii zum Schulanfang 
END:VEVENT
END:VCALENDAR
