BEGIN:VCALENDAR
VERSION:2.0
PRODID:-//Pro Regio Huttwil//NONSGML kigkonsult.se iCalcreator 2.16.12//
METHOD:PUBLISH
X-MS-OLK-FORCEINSPECTOROPEN:TRUE
BEGIN:VEVENT
UID:20260420T112817CEST-8778uiSwRX@Pro Regio Huttwil
DTSTAMP:20260420T092817Z
DESCRIPTION:
DTSTART:20200808T000000
DTEND:20200808T000000
LOCATION:Möösli
ORGANIZER:MAILTO:Pro Regio Huttwil <info@regio-huttwil.ch>
SUMMARY:Pétanque-Turnier
END:VEVENT
END:VCALENDAR
