BEGIN:VCALENDAR
VERSION:2.0
PRODID:-//Pro Regio Huttwil//NONSGML kigkonsult.se iCalcreator 2.16.12//
METHOD:PUBLISH
X-MS-OLK-FORCEINSPECTOROPEN:TRUE
BEGIN:VEVENT
UID:20260422T121448CEST-6428CJo6Uo@Pro Regio Huttwil
DTSTAMP:20260422T101448Z
DESCRIPTION:
DTSTART:20150624T090000
DTEND:20150624T110000
LOCATION:Kreuzstock Dürrenroth
ORGANIZER:MAILTO:Pro Regio Huttwil <info@regio-huttwil.ch>
SUMMARY:Znünitreff
END:VEVENT
END:VCALENDAR
