BEGIN:VCALENDAR
VERSION:2.0
PRODID:-//Pro Regio Huttwil//NONSGML kigkonsult.se iCalcreator 2.16.12//
METHOD:PUBLISH
X-MS-OLK-FORCEINSPECTOROPEN:TRUE
BEGIN:VEVENT
UID:20260420T101954CEST-47209Ez8xJ@Pro Regio Huttwil
DTSTAMP:20260420T081954Z
DESCRIPTION:
DTSTART:20200216T000000
DTEND:20200216T000000
LOCATION:Kirchgemeindehaus
ORGANIZER:MAILTO:Pro Regio Huttwil <info@regio-huttwil.ch>
SUMMARY:Konzert und Theater
END:VEVENT
END:VCALENDAR
