BEGIN:VCALENDAR
VERSION:2.0
PRODID:-//Pro Regio Huttwil//NONSGML kigkonsult.se iCalcreator 2.16.12//
METHOD:PUBLISH
X-MS-OLK-FORCEINSPECTOROPEN:TRUE
BEGIN:VEVENT
UID:20260420T101929CEST-11070zukFR@Pro Regio Huttwil
DTSTAMP:20260420T081929Z
DESCRIPTION:
DTSTART:20200208T000000
DTEND:20200208T000000
LOCATION:Vereinshaus
ORGANIZER:MAILTO:Pro Regio Huttwil <info@regio-huttwil.ch>
SUMMARY:Kafistübli
END:VEVENT
END:VCALENDAR
