BEGIN:VCALENDAR
VERSION:2.0
PRODID:-//Pro Regio Huttwil//NONSGML kigkonsult.se iCalcreator 2.16.12//
METHOD:PUBLISH
X-MS-OLK-FORCEINSPECTOROPEN:TRUE
BEGIN:VEVENT
UID:20260420T101911CEST-1909GjOb07@Pro Regio Huttwil
DTSTAMP:20260420T081911Z
DESCRIPTION:
DTSTART:20200102T000000
DTEND:20200102T000000
LOCATION:Kirchgemeindehaus 
ORGANIZER:MAILTO:Pro Regio Huttwil <info@regio-huttwil.ch>
SUMMARY:Bärzelistagsapéro
END:VEVENT
END:VCALENDAR
