BEGIN:VCALENDAR
VERSION:2.0
PRODID:-//Pro Regio Huttwil//NONSGML kigkonsult.se iCalcreator 2.16.12//
METHOD:PUBLISH
X-MS-OLK-FORCEINSPECTOROPEN:TRUE
BEGIN:VEVENT
UID:20260420T101753CEST-2295al8ivk@Pro Regio Huttwil
DTSTAMP:20260420T081753Z
DESCRIPTION:
DTSTART:20191101T170000
DTEND:20191101T220000
LOCATION:Huttwil 
ORGANIZER:MAILTO:Pro Regio Huttwil <info@regio-huttwil.ch>
SUMMARY:Ladies-Night
END:VEVENT
END:VCALENDAR
