BEGIN:VCALENDAR
VERSION:2.0
PRODID:-//Pro Regio Huttwil//NONSGML kigkonsult.se iCalcreator 2.16.12//
METHOD:PUBLISH
X-MS-OLK-FORCEINSPECTOROPEN:TRUE
BEGIN:VEVENT
UID:20260420T141601CEST-5406UBOSgG@Pro Regio Huttwil
DTSTAMP:20260420T121601Z
DESCRIPTION:Caludo ist eine neue Folk-Band aus dem Grossraum Zürich. Ihren 
 Musikstil bezeichnen sie als «Swissicana»\, wie das amerikanische Pendant\
 , aber mit lokalem Touch\, Ideen\, Themen und eigener Sprache. Gelegentlic
 h gibt’s auch mal Jigs und Reels zu hören und auch Songs auf deutsch oder 
 französisch. Catie Jo ist eine junge Bluegrass-Fiddlespielerin aus den USA
 \, sie studiert in Zürich. Vincent am Kontrabass kommt aus der Pop/Rock-Ec
 ke\, spielt mit dem Instrument aber auch griechische und irische Musik. St
 efan ist auch schon lange musikalisch unterwegs im Bereich Bluegrass und F
 olkrock.
DTSTART:20191206T201500
DTEND:20191206T230000
LOCATION:Keller-Bistro Alte Mühle
ORGANIZER:MAILTO:Pro Regio Huttwil <info@regio-huttwil.ch>
SUMMARY:Konzert mit Caludo
END:VEVENT
END:VCALENDAR
