BEGIN:VCALENDAR
VERSION:2.0
PRODID:-//Pro Regio Huttwil//NONSGML kigkonsult.se iCalcreator 2.16.12//
METHOD:PUBLISH
X-MS-OLK-FORCEINSPECTOROPEN:TRUE
BEGIN:VEVENT
UID:20260420T101752CEST-91271vcu6z@Pro Regio Huttwil
DTSTAMP:20260420T081752Z
DESCRIPTION:Das Abfahrtssignal erklingt. Die Lokomotive setzt sich in Beweg
 ung. Der Bass stampft den Rhythmus. Das Klavier zeichnet die Landschaft\, 
 die schneller und schneller am inneren Auge vorbeizieht. Von der Dampflock
 \, die sich durch die Südstaaten des 19. Jahrhunderts schlängelt\, steigt 
 man um in eine modernere Eisenbahn. Immer wilder tanzt die Welt vor dem Fe
 nster. Der eigene Fuss hüpft mit. Über die Lautsprecher singt der Zugführe
 r einen rauen\, verträumten Blues. Hat man eine Landesgrenze überquert? Gr
 oove und Harmonien schmecken plötzlich nach Lateinamerika. Umsteigen. Boog
 ie-Woogie. Die Finger rasen über die Tasten.
DTSTART:20200327T201500
DTEND:20200327T230000
LOCATION:Keller-Bistro Alte Mühle
ORGANIZER:MAILTO:Pro Regio Huttwil <info@regio-huttwil.ch>
SUMMARY:Konzert mit Elias Bernet Band
END:VEVENT
END:VCALENDAR
