BEGIN:VCALENDAR
VERSION:2.0
PRODID:-//Pro Regio Huttwil//NONSGML kigkonsult.se iCalcreator 2.16.12//
METHOD:PUBLISH
X-MS-OLK-FORCEINSPECTOROPEN:TRUE
BEGIN:VEVENT
UID:20260420T101756CEST-0228hwSUOP@Pro Regio Huttwil
DTSTAMP:20260420T081756Z
DESCRIPTION:Das Trio «Les Singes» nimmt die Zuhörer mit auf eine Zeitreise 
 ins Paris der 30er Jahre. Die Wurzel ihrer Musik liegt im französischen Ja
 zz Manouche\, dem europäischen Swing. Mit originellen Kompositionen und Ar
 rangements verpassen sie dem Genre eine zeitgenössische Frische. Lyrische 
 Melodien wechseln sich ab mit virtuosen Improvisationen. Durch die ehrlich
 e Sprache der akustischen Instrumente Gitarre und Kontrabass und dem authe
 ntischen Gesang scha\Zffen die Musiker eine berührend rohe und intime Atmo
 sphäre.
DTSTART:20200221T201500
DTEND:20200221T230000
LOCATION:Keller-Bistro Alte Mühle
ORGANIZER:MAILTO:Pro Regio Huttwil <info@regio-huttwil.ch>
SUMMARY:Konzert mit Les Singes
END:VEVENT
END:VCALENDAR
