BEGIN:VCALENDAR
VERSION:2.0
PRODID:-//Pro Regio Huttwil//NONSGML kigkonsult.se iCalcreator 2.16.12//
METHOD:PUBLISH
X-MS-OLK-FORCEINSPECTOROPEN:TRUE
BEGIN:VEVENT
UID:20260420T101912CEST-3872gHH9U7@Pro Regio Huttwil
DTSTAMP:20260420T081912Z
DESCRIPTION:Pflanzplätz spielt einen Mix aus traditioneller und moderner Sc
 hweizer Volksmusik\, wobei auch ausländischer Folk nicht zu kurz kommt. Al
 les wird mit einem Schuss Improvisation angereichert. Dominierend ist das 
 Schwyzerörgeli und der Kontrabass\, andere Instrumente wie Gitarre\, Cajon
 \, Langnauerli\, Halszither\, Trümpi oder Gesang werden aber auch ab und z
 u eingesetzt. Den drei Musikanten ist es wichtig\, jedem Stück den eigenen
  Stil zu verleihen\, der sich von der heute gängigen «Örgelimusig» untersc
 heiden soll. Experimentier- und Spielfreude sowie spezielle Eigenkompositi
 onen zeichnen die Musiker aus.
DTSTART:20200131T201500
DTEND:20200131T230000
LOCATION:Keller-Bistro Alte Mühle
ORGANIZER:MAILTO:Pro Regio Huttwil <info@regio-huttwil.ch>
SUMMARY:Konzert mit Pflanzblätz
END:VEVENT
END:VCALENDAR
