BEGIN:VCALENDAR
VERSION:2.0
PRODID:-//Pro Regio Huttwil//NONSGML kigkonsult.se iCalcreator 2.16.12//
METHOD:PUBLISH
X-MS-OLK-FORCEINSPECTOROPEN:TRUE
BEGIN:VEVENT
UID:20260420T112818CEST-2823e1rWVd@Pro Regio Huttwil
DTSTAMP:20260420T092818Z
DESCRIPTION:Daniel Ziegler\, der Gute-Laune-Mensch bekannt aus Funk und Fer
 nsehen\, macht’s nochmal. Wird das zweite Soloprogramm des überragenden Ba
 ssisten die Lernkurve beim Publikum weiter ansteigen lassen? Gibt es einen
  Zusammenhang zwischen dem König der Instrumente\, Italienischen Teigwaren
  und dem Verlangen\, jetzt mal die grossen Zusammenhänge endgültig zu deut
 en? Ziegler lässt im neuen Programm erneut seine Musikalität aufblitzen. S
 parsam\, wie es seinem Naturell entspricht\, dosiert er auch hier seine Eu
 phorie\, bis er es nicht mehr aushält – Bassta!
DTSTART:20200110T201500
DTEND:20200110T230000
LOCATION:Keller-Bistro Alte Mühle
ORGANIZER:MAILTO:Pro Regio Huttwil <info@regio-huttwil.ch>
SUMMARY:Comedy mit Daniel Ziegler Try out
END:VEVENT
END:VCALENDAR
