BEGIN:VCALENDAR
VERSION:2.0
PRODID:-//Pro Regio Huttwil//NONSGML kigkonsult.se iCalcreator 2.16.12//
METHOD:PUBLISH
X-MS-OLK-FORCEINSPECTOROPEN:TRUE
BEGIN:VEVENT
UID:20260420T101955CEST-0488pZJFal@Pro Regio Huttwil
DTSTAMP:20260420T081955Z
DESCRIPTION:Sandra Rippstein Freda Goodlett Trio Colors of Gospel\nnEine kl
 eine Formation mit viel Power – das ist das Grundrezept von Colors of Gosp
 el. Drei kra volle und dennoch völlig verschiedene Frauenstimmen\, begleit
 et von einem Piano oder einer Orgel. Colors of Gospel interpretieren alt b
 ekannte\, traditionelle Gospels und Spirituals\, wie auch ins Genre passen
 de Songs aus allen anderen Sparten der Musik\, sodass eine möglichst farbe
 nfrohe Mischung aus wunderbaren Liedern entsteht. Songs\, die unter die Ha
 ut gehen oder einen zum Mitmachen animieren. https://kellerbistro-huttwil.
 ch/
DTSTART:20191122T201500
DTEND:20191122T230000
LOCATION:Keller-Bistro Alte Mühle
ORGANIZER:MAILTO:Pro Regio Huttwil <info@regio-huttwil.ch>
SUMMARY:Konzert mit Sandra Rippstein Freda Goodlett Trio
END:VEVENT
END:VCALENDAR
