BEGIN:VCALENDAR
VERSION:2.0
PRODID:-//Pro Regio Huttwil//NONSGML kigkonsult.se iCalcreator 2.16.12//
METHOD:PUBLISH
X-MS-OLK-FORCEINSPECTOROPEN:TRUE
BEGIN:VEVENT
UID:20260420T101915CEST-3974SJVusH@Pro Regio Huttwil
DTSTAMP:20260420T081915Z
DESCRIPTION:Dänu Siegrist Berner Mundart\nnIn seinem aktuellen Bühnenprogra
 mm präsentiert Dänu Siegrist Lieder aus seiner 40-jährigen Berner Mundart-
 Geschichte. Ehemals als Dialektrock- Pionier mit Bands wie Span und Polo H
 ofers Schmetterding unterwegs\, zeigt sich der Musiker heute als Bewahrer 
 eines umfangreichen Repetoires. Mit seinen neuen Songs ist er gleichzeitig
  Erneuerer des traditionellen Berner Chansons und Mundartsongs. Mit eindrü
 cklichen Geschichten und eingän- gigen Melodien\, in der Tradition eines D
 ylan und Springsteen\, re ektiert er mit rauher Stimme und akustischer Git
 arre Biogra en seiner Generation. https://kellerbistro-huttwil.ch/
DTSTART:20191101T201500
DTEND:20191101T230000
LOCATION:Keller-Bistro Alte Mühle
ORGANIZER:MAILTO:Pro Regio Huttwil <info@regio-huttwil.ch>
SUMMARY:Konzert mit Dänu Siegrist
END:VEVENT
END:VCALENDAR
