BEGIN:VCALENDAR
VERSION:2.0
PRODID:-//Pro Regio Huttwil//NONSGML kigkonsult.se iCalcreator 2.16.12//
METHOD:PUBLISH
X-MS-OLK-FORCEINSPECTOROPEN:TRUE
BEGIN:VEVENT
UID:20260420T111037CEST-2424aSbZlP@Pro Regio Huttwil
DTSTAMP:20260420T091037Z
DESCRIPTION:Zéphyr Combo (Chanson\, Gypsy)\nnSeit seiner Gründung 2012 hat
  unsere bunte Truppe mehr als 400 Konzerte im In- und Ausland gespielt. 20
 17 haben wir im Helsinki Klub Zürich unser drittes Album\, «le Bal des Ven
 ts»\, in die Welt geschickt. Zéphyr Combo (CH/B) vermischt Chanson mit Gip
 syklängen\, Handor- gelrock\, bissigen Satiren\, wirren Trinkliedern und T
 räumereien. Dazu begleiten wir uns auf Akkordeon\, Geige\, Drehleier\, Kla
 vier\, Gitarre\, Helikon\, Trompete und Schlagzeug. Tönt ein wenig wie Bre
 l\, ein wenig wie Bregovic\, aber vor allem wie – Zéphyr Combo. https://ke
 llerbistro-huttwil.ch/\n 
DTSTART:20191018T201500
DTEND:20191018T230000
LOCATION:Keller-Bistro Alte Mühle
ORGANIZER:MAILTO:Pro Regio Huttwil <info@regio-huttwil.ch>
SUMMARY:Konzert mit Zéphyr Combo
END:VEVENT
END:VCALENDAR
