BEGIN:VCALENDAR
VERSION:2.0
PRODID:-//Pro Regio Huttwil//NONSGML kigkonsult.se iCalcreator 2.16.12//
METHOD:PUBLISH
X-MS-OLK-FORCEINSPECTOROPEN:TRUE
BEGIN:VEVENT
UID:20260420T101956CEST-2680Re2mWM@Pro Regio Huttwil
DTSTAMP:20260420T081956Z
DESCRIPTION:Die „Domi Fighers Racing Party“ geht in die Jubiläums-Runde\n\n
 Am Samstag\, 23. November steigt zum 10. Mal in Folge die legendäre Racing
  Party der Domi Fighter’s. Macht euch bereit für einen Abend\, der die Hig
 hlights der vereinen wird: ab 18 Uhr starten wir mit einem gemütlichen Gri
 ll und Chill\, um dann um 21 Uhr ready zu sein für die grosse Party. Nebst
  verschiedensten Live Acts wird DJ Ref JD für beste Stimmung sorgen.\n\nUn
 d obwohl der Event selber schon für beste Erinnerungen sorgen wird\, ist d
 ennoch auch unser Fanshop wieder vor Ort\, um euch mit Souvenirs und Fanar
 tikeln zu versorgen.\n\nWann:\nSamstag\, 23. November\, 18 Uhr Grill & Chi
 ll\, 21 Uhr Party\n\nWo:\nCampus Perspektiven bei Huttwil\nEventhalle Schw
 arzenbach\nDörfli 6\n4953 Schwarzenbach b. Huttwil\n\nWer:\nDomi Fighers\,
  Friends&Family\, Fans\, DJ Ref JD und weiter Live Acts\n\nAnreise:\nÖV = 
 Shutteldienst von Bahnhof zum Campus\nAuto = Parkplätze vorhanden
DTSTART:20191123T180000
DTEND:20191124T033000
LOCATION:Schwarzenbach bei Huttwil
ORGANIZER:MAILTO:Pro Regio Huttwil <info@regio-huttwil.ch>
SUMMARY:Domi Figher's Racing Party
END:VEVENT
END:VCALENDAR
