BEGIN:VCALENDAR
VERSION:2.0
PRODID:-//Pro Regio Huttwil//NONSGML kigkonsult.se iCalcreator 2.16.12//
METHOD:PUBLISH
X-MS-OLK-FORCEINSPECTOROPEN:TRUE
BEGIN:VEVENT
UID:20260420T115953CEST-2663BfFKfM@Pro Regio Huttwil
DTSTAMP:20260420T095953Z
DESCRIPTION:
DTSTART:20190504T100000
DTEND:20190504T160000
LOCATION:Schulhaus
ORGANIZER:MAILTO:Pro Regio Huttwil <info@regio-huttwil.ch>
SUMMARY:Koffermarkt
END:VEVENT
END:VCALENDAR
