BEGIN:VCALENDAR
VERSION:2.0
PRODID:-//Pro Regio Huttwil//NONSGML kigkonsult.se iCalcreator 2.16.12//
METHOD:PUBLISH
X-MS-OLK-FORCEINSPECTOROPEN:TRUE
BEGIN:VEVENT
UID:20260420T120001CEST-1264oRoVAl@Pro Regio Huttwil
DTSTAMP:20260420T100001Z
DESCRIPTION:
DTSTART:20190707T100000
DTEND:20190707T170000
LOCATION:Schwimmbad Huttwil
ORGANIZER:MAILTO:Pro Regio Huttwil <info@regio-huttwil.ch>
SUMMARY:20 Jahre SLRG Oberaargau
END:VEVENT
END:VCALENDAR
