BEGIN:VCALENDAR
VERSION:2.0
PRODID:-//Pro Regio Huttwil//NONSGML kigkonsult.se iCalcreator 2.16.12//
METHOD:PUBLISH
X-MS-OLK-FORCEINSPECTOROPEN:TRUE
BEGIN:VEVENT
UID:20260422T105209CEST-0754a4tvUf@Pro Regio Huttwil
DTSTAMP:20260422T085209Z
DESCRIPTION:
DTSTART:20190331T170000
DTEND:20190331T180000
LOCATION:Reformierte Kirche Huttwil
ORGANIZER:MAILTO:Pro Regio Huttwil <info@regio-huttwil.ch>
SUMMARY:Barock-Konzert
END:VEVENT
END:VCALENDAR
