BEGIN:VCALENDAR
VERSION:2.0
PRODID:-//Pro Regio Huttwil//NONSGML kigkonsult.se iCalcreator 2.16.12//
METHOD:PUBLISH
X-MS-OLK-FORCEINSPECTOROPEN:TRUE
BEGIN:VEVENT
UID:20260420T120135CEST-9842u7x1fu@Pro Regio Huttwil
DTSTAMP:20260420T100135Z
DESCRIPTION:
DTSTART:20190306T193000
DTEND:20190306T210000
LOCATION:Aula Oberstufe Hofmatt
ORGANIZER:MAILTO:Pro Regio Huttwil <info@regio-huttwil.ch>
SUMMARY:Infoveranstaltung Neubau Kindergarten-Unterstufe
END:VEVENT
END:VCALENDAR
