BEGIN:VCALENDAR
VERSION:2.0
PRODID:-//Pro Regio Huttwil//NONSGML kigkonsult.se iCalcreator 2.16.12//
METHOD:PUBLISH
X-MS-OLK-FORCEINSPECTOROPEN:TRUE
BEGIN:VEVENT
UID:20260420T111039CEST-0276VcjXjI@Pro Regio Huttwil
DTSTAMP:20260420T091039Z
DESCRIPTION:Beschreiben Sie zuerst\, worum es bei Ihrer Veranstaltung geht.
  Ergänzen Sie danach in den Tabs die weiteren Informationen.
DTSTART:20130811T140000
DTEND:20130811T143000
ORGANIZER:MAILTO:Pro Regio Huttwil <info@regio-huttwil.ch>
SUMMARY:Veranstaltung erstellen
END:VEVENT
END:VCALENDAR
