BEGIN:VCALENDAR
VERSION:2.0
PRODID:-//Pro Regio Huttwil//NONSGML kigkonsult.se iCalcreator 2.16.12//
METHOD:PUBLISH
X-MS-OLK-FORCEINSPECTOROPEN:TRUE
BEGIN:VEVENT
UID:20260420T101743CEST-37213SDDf3@Pro Regio Huttwil
DTSTAMP:20260420T081743Z
DESCRIPTION:
DTSTART:20191203T133000
DTEND:20191203T000000
LOCATION:Vereinshaus EGW
ORGANIZER:MAILTO:Pro Regio Huttwil <info@regio-huttwil.ch>
SUMMARY:Gemeinschaftsnachmittag
END:VEVENT
END:VCALENDAR
